Package: RGMQL Version: 1.12.4 Command: rm -rf RGMQL.buildbin-libdir && mkdir RGMQL.buildbin-libdir && C:\Users\biocbuild\bbs-3.13-bioc\R\bin\R.exe --arch x64 CMD INSTALL --no-multiarch --build --library=RGMQL.buildbin-libdir RGMQL_1.12.4.tar.gz StartedAt: 2021-10-15 11:22:12 -0400 (Fri, 15 Oct 2021) EndedAt: 2021-10-15 11:23:19 -0400 (Fri, 15 Oct 2021) EllapsedTime: 67.5 seconds RetCode: 0 Status: OK PackageFile: RGMQL_1.12.4.zip PackageFileSize: 28.81 MiB