Package: RDRToolbox Version: 1.42.0 Command: C:\Users\biocbuild\bbs-3.13-bioc\R\bin\R.exe CMD check --force-multiarch --install=check:RDRToolbox.install-out.txt --library=C:\Users\biocbuild\bbs-3.13-bioc\R\library --no-vignettes --timings RDRToolbox_1.42.0.tar.gz StartedAt: 2021-10-15 04:14:42 -0400 (Fri, 15 Oct 2021) EndedAt: 2021-10-15 04:16:25 -0400 (Fri, 15 Oct 2021) EllapsedTime: 102.7 seconds RetCode: 0 Status: OK CheckDir: RDRToolbox.Rcheck Warnings: 0