Package: RDRToolbox Version: 1.42.0 Command: chmod a+r RDRToolbox -R && C:\Users\biocbuild\bbs-3.13-bioc\R\bin\R.exe CMD build --keep-empty-dirs --no-resave-data RDRToolbox StartedAt: 2021-10-14 17:28:52 -0400 (Thu, 14 Oct 2021) EndedAt: 2021-10-14 17:29:52 -0400 (Thu, 14 Oct 2021) EllapsedTime: 60.9 seconds RetCode: 0 Status: OK PackageFile: RDRToolbox_1.42.0.tar.gz PackageFileSize: 241.4 KiB