Package: RDRToolbox Version: 1.42.0 Command: rm -rf RDRToolbox.buildbin-libdir && mkdir RDRToolbox.buildbin-libdir && C:\Users\biocbuild\bbs-3.13-bioc\R\bin\R.exe CMD INSTALL --merge-multiarch --build --library=RDRToolbox.buildbin-libdir RDRToolbox_1.42.0.tar.gz StartedAt: 2021-10-15 11:17:31 -0400 (Fri, 15 Oct 2021) EndedAt: 2021-10-15 11:18:49 -0400 (Fri, 15 Oct 2021) EllapsedTime: 78.0 seconds RetCode: 0 Status: OK PackageFile: RDRToolbox_1.42.0.zip PackageFileSize: 251.7 KiB