Package: RDRToolbox Version: 1.42.0 Command: /home/biocbuild/bbs-3.13-bioc/R/bin/R CMD build --keep-empty-dirs --no-resave-data RDRToolbox StartedAt: 2021-10-14 08:09:56 -0400 (Thu, 14 Oct 2021) EndedAt: 2021-10-14 08:10:07 -0400 (Thu, 14 Oct 2021) EllapsedTime: 11.1 seconds RetCode: 0 Status: OK PackageFile: RDRToolbox_1.42.0.tar.gz PackageFileSize: 226.7 KiB