Package: RDRToolbox Version: 1.42.0 Command: /Library/Frameworks/R.framework/Versions/Current/Resources/bin/R CMD check --install=check:RDRToolbox.install-out.txt --library=/Library/Frameworks/R.framework/Versions/Current/Resources/library --no-vignettes --timings --no-examples RDRToolbox_1.42.0.tar.gz StartedAt: 2021-10-14 22:57:23 -0400 (Thu, 14 Oct 2021) EndedAt: 2021-10-14 22:57:53 -0400 (Thu, 14 Oct 2021) EllapsedTime: 30.4 seconds RetCode: 0 Status: OK CheckDir: RDRToolbox.Rcheck Warnings: 0