Package: RCSL Version: 1.0.0 Command: rm -rf RCSL.buildbin-libdir && mkdir RCSL.buildbin-libdir && /Users/biocbuild/BBS/utils/build-universal.sh RCSL_1.0.0.tar.gz /Library/Frameworks/R.framework/Versions/Current/Resources/bin/R RCSL.buildbin-libdir StartedAt: 2021-10-15 03:39:58 -0400 (Fri, 15 Oct 2021) EndedAt: 2021-10-15 03:40:57 -0400 (Fri, 15 Oct 2021) EllapsedTime: 58.8 seconds RetCode: 0 Status: OK PackageFile: RCSL_1.0.0.tgz PackageFileSize: 3.024 MiB