Package: RCASPAR Version: 1.38.0 Command: chmod a+r RCASPAR -R && C:\Users\biocbuild\bbs-3.13-bioc\R\bin\R.exe CMD build --keep-empty-dirs --no-resave-data RCASPAR StartedAt: 2021-10-14 17:26:34 -0400 (Thu, 14 Oct 2021) EndedAt: 2021-10-14 17:26:51 -0400 (Thu, 14 Oct 2021) EllapsedTime: 16.4 seconds RetCode: 0 Status: OK PackageFile: RCASPAR_1.38.0.tar.gz PackageFileSize: 214.7 KiB