git_url: https://git.bioconductor.org/packages/RCASPAR git_branch: RELEASE_3_13 git_last_commit: fa5ea8c git_last_commit_date: 2021-05-19 11:48:49 -0400 (Wed, 19 May 2021) Package: RCASPAR Version: 1.38.0 Maintainer: Douaa Mugahid , Lars Kaderali MaintainerEmail: lars.kaderali at uni-greifswald.de