Package: RCAS Version: 1.18.0 Command: C:\cygwin\bin\curl.exe -O http://155.52.207.165/BBS/3.13/bioc/src/contrib/RCAS_1.18.0.tar.gz && rm -rf RCAS.buildbin-libdir && mkdir RCAS.buildbin-libdir && C:\Users\biocbuild\bbs-3.13-bioc\R\bin\R.exe CMD INSTALL --merge-multiarch --build --library=RCAS.buildbin-libdir RCAS_1.18.0.tar.gz && C:\Users\biocbuild\bbs-3.13-bioc\R\bin\R.exe CMD INSTALL RCAS_1.18.0.zip && rm RCAS_1.18.0.tar.gz RCAS_1.18.0.zip StartedAt: 2021-10-14 10:33:26 -0400 (Thu, 14 Oct 2021) EndedAt: 2021-10-14 10:34:44 -0400 (Thu, 14 Oct 2021) EllapsedTime: 78.5 seconds RetCode: 0 Status: OK