Package: RCAS Version: 1.18.0 Command: C:\Users\biocbuild\bbs-3.13-bioc\R\bin\R.exe CMD check --force-multiarch --install=check:RCAS.install-out.txt --library=C:\Users\biocbuild\bbs-3.13-bioc\R\library --no-vignettes --timings RCAS_1.18.0.tar.gz StartedAt: 2021-10-15 04:09:59 -0400 (Fri, 15 Oct 2021) EndedAt: 2021-10-15 04:29:48 -0400 (Fri, 15 Oct 2021) EllapsedTime: 1189.0 seconds RetCode: 0 Status: OK CheckDir: RCAS.Rcheck Warnings: 0