Package: RBioinf Version: 1.52.0 Command: C:\Users\biocbuild\bbs-3.13-bioc\R\bin\R.exe CMD check --force-multiarch --install=check:RBioinf.install-out.txt --library=C:\Users\biocbuild\bbs-3.13-bioc\R\library --no-vignettes --timings RBioinf_1.52.0.tar.gz StartedAt: 2021-10-15 04:08:31 -0400 (Fri, 15 Oct 2021) EndedAt: 2021-10-15 04:09:22 -0400 (Fri, 15 Oct 2021) EllapsedTime: 51.4 seconds RetCode: 0 Status: OK CheckDir: RBioinf.Rcheck Warnings: 0