Package: RBioinf Version: 1.52.0 Command: chmod a+r RBioinf -R && C:\Users\biocbuild\bbs-3.13-bioc\R\bin\R.exe CMD build --keep-empty-dirs --no-resave-data RBioinf StartedAt: 2021-10-14 17:25:06 -0400 (Thu, 14 Oct 2021) EndedAt: 2021-10-14 17:25:37 -0400 (Thu, 14 Oct 2021) EllapsedTime: 30.1 seconds RetCode: 0 Status: OK PackageFile: RBioinf_1.52.0.tar.gz PackageFileSize: 3.459 MiB