Package: RBioinf Version: 1.52.0 Command: /home/biocbuild/bbs-3.13-bioc/R/bin/R CMD INSTALL RBioinf StartedAt: 2021-10-14 06:05:00 -0400 (Thu, 14 Oct 2021) EndedAt: 2021-10-14 06:05:03 -0400 (Thu, 14 Oct 2021) EllapsedTime: 3.3 seconds RetCode: 0 Status: OK