Package: RBioinf Version: 1.52.0 Command: /home/biocbuild/bbs-3.13-bioc/R/bin/R CMD check --install=check:RBioinf.install-out.txt --library=/home/biocbuild/bbs-3.13-bioc/R/library --no-vignettes --timings RBioinf_1.52.0.tar.gz StartedAt: 2021-10-14 11:14:25 -0400 (Thu, 14 Oct 2021) EndedAt: 2021-10-14 11:14:47 -0400 (Thu, 14 Oct 2021) EllapsedTime: 22.4 seconds RetCode: 0 Status: OK CheckDir: RBioinf.Rcheck Warnings: 0