Package: RBioinf Version: 1.52.0 Command: /Library/Frameworks/R.framework/Versions/Current/Resources/bin/R CMD INSTALL RBioinf StartedAt: 2021-10-14 08:24:54 -0400 (Thu, 14 Oct 2021) EndedAt: 2021-10-14 08:25:36 -0400 (Thu, 14 Oct 2021) EllapsedTime: 42.4 seconds RetCode: 0 Status: OK