Package: RBioinf Version: 1.52.0 Command: rm -rf RBioinf.buildbin-libdir && mkdir RBioinf.buildbin-libdir && /Users/biocbuild/BBS/utils/build-universal.sh RBioinf_1.52.0.tar.gz /Library/Frameworks/R.framework/Versions/Current/Resources/bin/R RBioinf.buildbin-libdir StartedAt: 2021-10-15 03:38:43 -0400 (Fri, 15 Oct 2021) EndedAt: 2021-10-15 03:39:48 -0400 (Fri, 15 Oct 2021) EllapsedTime: 64.4 seconds RetCode: 0 Status: OK PackageFile: RBioinf_1.52.0.tgz PackageFileSize: 3.514 MiB