Package: R4RNA Version: 1.20.0 Command: C:\cygwin\bin\curl.exe -O http://155.52.207.165/BBS/3.13/bioc/src/contrib/R4RNA_1.20.0.tar.gz && rm -rf R4RNA.buildbin-libdir && mkdir R4RNA.buildbin-libdir && C:\Users\biocbuild\bbs-3.13-bioc\R\bin\R.exe CMD INSTALL --merge-multiarch --build --library=R4RNA.buildbin-libdir R4RNA_1.20.0.tar.gz && C:\Users\biocbuild\bbs-3.13-bioc\R\bin\R.exe CMD INSTALL R4RNA_1.20.0.zip && rm R4RNA_1.20.0.tar.gz R4RNA_1.20.0.zip StartedAt: 2021-10-14 07:50:11 -0400 (Thu, 14 Oct 2021) EndedAt: 2021-10-14 07:51:06 -0400 (Thu, 14 Oct 2021) EllapsedTime: 54.6 seconds RetCode: 0 Status: OK