Package: R453Plus1Toolbox Version: 1.42.0 Command: C:\Users\biocbuild\bbs-3.13-bioc\R\bin\R.exe CMD check --force-multiarch --install=check:R453Plus1Toolbox.install-out.txt --library=C:\Users\biocbuild\bbs-3.13-bioc\R\library --no-vignettes --timings R453Plus1Toolbox_1.42.0.tar.gz StartedAt: 2021-10-15 04:03:47 -0400 (Fri, 15 Oct 2021) EndedAt: 2021-10-15 04:12:39 -0400 (Fri, 15 Oct 2021) EllapsedTime: 531.7 seconds RetCode: 0 Status: OK CheckDir: R453Plus1Toolbox.Rcheck Warnings: 0