Package: R3CPET Version: 1.24.0 Command: chmod a+r R3CPET -R && C:\Users\biocbuild\bbs-3.13-bioc\R\bin\R.exe CMD build --keep-empty-dirs --no-resave-data R3CPET StartedAt: 2021-10-14 17:21:33 -0400 (Thu, 14 Oct 2021) EndedAt: 2021-10-14 17:24:07 -0400 (Thu, 14 Oct 2021) EllapsedTime: 153.8 seconds RetCode: 0 Status: OK PackageFile: R3CPET_1.24.0.tar.gz PackageFileSize: 5.079 MiB