Package: R3CPET Version: 1.24.0 Command: /home/biocbuild/bbs-3.13-bioc/R/bin/R CMD check --install=check:R3CPET.install-out.txt --library=/home/biocbuild/bbs-3.13-bioc/R/library --no-vignettes --timings R3CPET_1.24.0.tar.gz StartedAt: 2021-10-14 11:12:49 -0400 (Thu, 14 Oct 2021) EndedAt: 2021-10-14 11:17:40 -0400 (Thu, 14 Oct 2021) EllapsedTime: 290.9 seconds RetCode: 0 Status: OK CheckDir: R3CPET.Rcheck Warnings: 0