Package: R3CPET Version: 1.24.0 Command: /Library/Frameworks/R.framework/Versions/Current/Resources/bin/R CMD check --install=check:R3CPET.install-out.txt --library=/Library/Frameworks/R.framework/Versions/Current/Resources/library --no-vignettes --timings R3CPET_1.24.0.tar.gz StartedAt: 2021-10-14 22:49:28 -0400 (Thu, 14 Oct 2021) EndedAt: 2021-10-14 22:56:03 -0400 (Thu, 14 Oct 2021) EllapsedTime: 395.5 seconds RetCode: 0 Status: OK CheckDir: R3CPET.Rcheck Warnings: 0