git_url: https://git.bioconductor.org/packages/QuaternaryProd git_branch: RELEASE_3_13 git_last_commit: 86cd5be git_last_commit_date: 2021-05-19 12:17:16 -0400 (Wed, 19 May 2021) Package: QuaternaryProd Version: 1.26.0 Maintainer: Carl Tony Fakhry MaintainerEmail: cfakhry at cs.umb.edu