git_url: https://git.bioconductor.org/packages/QuartPAC git_branch: RELEASE_3_13 git_last_commit: 5debb20 git_last_commit_date: 2021-05-19 12:09:57 -0400 (Wed, 19 May 2021) Package: QuartPAC Version: 1.24.0 Maintainer: Gregory Ryslik MaintainerEmail: gregory.ryslik at yale.edu