Package: QSutils Version: 1.10.0 Command: /home/biocbuild/bbs-3.13-bioc/R/bin/R CMD check --install=check:QSutils.install-out.txt --library=/home/biocbuild/bbs-3.13-bioc/R/library --no-vignettes --timings QSutils_1.10.0.tar.gz StartedAt: 2021-10-14 11:11:27 -0400 (Thu, 14 Oct 2021) EndedAt: 2021-10-14 11:12:39 -0400 (Thu, 14 Oct 2021) EllapsedTime: 71.6 seconds RetCode: 0 Status: OK CheckDir: QSutils.Rcheck Warnings: 0