Package: QSutils Version: 1.10.0 Command: /Library/Frameworks/R.framework/Versions/Current/Resources/bin/R CMD INSTALL QSutils StartedAt: 2021-10-14 09:19:24 -0400 (Thu, 14 Oct 2021) EndedAt: 2021-10-14 09:20:25 -0400 (Thu, 14 Oct 2021) EllapsedTime: 61.4 seconds RetCode: 0 Status: OK