Package: QSutils Version: 1.10.0 Command: /Library/Frameworks/R.framework/Versions/Current/Resources/bin/R CMD check --install=check:QSutils.install-out.txt --library=/Library/Frameworks/R.framework/Versions/Current/Resources/library --no-vignettes --timings QSutils_1.10.0.tar.gz StartedAt: 2021-10-14 22:45:07 -0400 (Thu, 14 Oct 2021) EndedAt: 2021-10-14 22:46:53 -0400 (Thu, 14 Oct 2021) EllapsedTime: 106.1 seconds RetCode: 0 Status: OK CheckDir: QSutils.Rcheck Warnings: 0