Package: QSutils Version: 1.10.0 Command: /Library/Frameworks/R.framework/Versions/Current/Resources/bin/R CMD build --keep-empty-dirs --no-resave-data QSutils StartedAt: 2021-10-14 14:09:49 -0400 (Thu, 14 Oct 2021) EndedAt: 2021-10-14 14:11:38 -0400 (Thu, 14 Oct 2021) EllapsedTime: 108.2 seconds RetCode: 0 Status: OK PackageFile: QSutils_1.10.0.tar.gz PackageFileSize: 1.234 MiB