Package: QSutils Version: 1.10.0 Command: rm -rf QSutils.buildbin-libdir && mkdir QSutils.buildbin-libdir && /Users/biocbuild/BBS/utils/build-universal.sh QSutils_1.10.0.tar.gz /Library/Frameworks/R.framework/Versions/Current/Resources/bin/R QSutils.buildbin-libdir StartedAt: 2021-10-15 03:36:07 -0400 (Fri, 15 Oct 2021) EndedAt: 2021-10-15 03:37:16 -0400 (Fri, 15 Oct 2021) EllapsedTime: 69.5 seconds RetCode: 0 Status: OK PackageFile: QSutils_1.10.0.tgz PackageFileSize: 1.346 MiB