Package: QDNAseq Version: 1.28.0 Command: chmod a+r QDNAseq -R && C:\Users\biocbuild\bbs-3.13-bioc\R\bin\R.exe CMD build --keep-empty-dirs --no-resave-data QDNAseq StartedAt: 2021-10-14 17:18:38 -0400 (Thu, 14 Oct 2021) EndedAt: 2021-10-14 17:19:58 -0400 (Thu, 14 Oct 2021) EllapsedTime: 80.3 seconds RetCode: 0 Status: OK PackageFile: QDNAseq_1.28.0.tar.gz PackageFileSize: 835.4 KiB