Package: QDNAseq Version: 1.28.0 Command: /home/biocbuild/bbs-3.13-bioc/R/bin/R CMD check --install=check:QDNAseq.install-out.txt --library=/home/biocbuild/bbs-3.13-bioc/R/library --no-vignettes --timings QDNAseq_1.28.0.tar.gz StartedAt: 2021-10-14 11:10:48 -0400 (Thu, 14 Oct 2021) EndedAt: 2021-10-14 11:15:13 -0400 (Thu, 14 Oct 2021) EllapsedTime: 265.3 seconds RetCode: 0 Status: OK CheckDir: QDNAseq.Rcheck Warnings: 0