Package: PureCN Version: 1.22.2 Command: C:\cygwin\bin\curl.exe -O http://155.52.207.165/BBS/3.13/bioc/src/contrib/PureCN_1.22.2.tar.gz && rm -rf PureCN.buildbin-libdir && mkdir PureCN.buildbin-libdir && C:\Users\biocbuild\bbs-3.13-bioc\R\bin\R.exe CMD INSTALL --merge-multiarch --build --library=PureCN.buildbin-libdir PureCN_1.22.2.tar.gz && C:\Users\biocbuild\bbs-3.13-bioc\R\bin\R.exe CMD INSTALL PureCN_1.22.2.zip && rm PureCN_1.22.2.tar.gz PureCN_1.22.2.zip StartedAt: 2021-10-14 10:20:38 -0400 (Thu, 14 Oct 2021) EndedAt: 2021-10-14 10:22:15 -0400 (Thu, 14 Oct 2021) EllapsedTime: 97.1 seconds RetCode: 0 Status: OK