Package: ProteomicsAnnotationHubData Version: 1.22.0 Command: /Library/Frameworks/R.framework/Versions/Current/Resources/bin/R CMD check --install=check:ProteomicsAnnotationHubData.install-out.txt --library=/Library/Frameworks/R.framework/Versions/Current/Resources/library --no-vignettes --timings ProteomicsAnnotationHubData_1.22.0.tar.gz StartedAt: 2021-10-14 22:37:33 -0400 (Thu, 14 Oct 2021) EndedAt: 2021-10-14 22:43:47 -0400 (Thu, 14 Oct 2021) EllapsedTime: 374.0 seconds RetCode: 0 Status: OK CheckDir: ProteomicsAnnotationHubData.Rcheck Warnings: 0