git_url: https://git.bioconductor.org/packages/ProteomicsAnnotationHubData git_branch: RELEASE_3_13 git_last_commit: f070c64 git_last_commit_date: 2021-05-19 12:15:31 -0400 (Wed, 19 May 2021) Package: ProteomicsAnnotationHubData Version: 1.22.0 Maintainer: Laurent Gatto MaintainerEmail: lg390 at cam.ac.uk