Package: ProtGenerics Version: 1.24.0 Command: chmod a+r ProtGenerics -R && C:\Users\biocbuild\bbs-3.13-bioc\R\bin\R.exe CMD build --keep-empty-dirs --no-resave-data ProtGenerics StartedAt: 2021-10-14 17:14:10 -0400 (Thu, 14 Oct 2021) EndedAt: 2021-10-14 17:14:28 -0400 (Thu, 14 Oct 2021) EllapsedTime: 17.7 seconds RetCode: 0 Status: OK PackageFile: ProtGenerics_1.24.0.tar.gz PackageFileSize: 8.42 KiB