Package: ProtGenerics Version: 1.24.0 Command: /home/biocbuild/bbs-3.13-bioc/R/bin/R CMD check --install=check:ProtGenerics.install-out.txt --library=/home/biocbuild/bbs-3.13-bioc/R/library --no-vignettes --timings ProtGenerics_1.24.0.tar.gz StartedAt: 2021-10-14 11:08:24 -0400 (Thu, 14 Oct 2021) EndedAt: 2021-10-14 11:08:40 -0400 (Thu, 14 Oct 2021) EllapsedTime: 16.6 seconds RetCode: 0 Status: OK CheckDir: ProtGenerics.Rcheck Warnings: 0