git_url: https://git.bioconductor.org/packages/PrInCE git_branch: RELEASE_3_13 git_last_commit: 0c2804f git_last_commit_date: 2021-05-19 12:41:38 -0400 (Wed, 19 May 2021) Package: PrInCE Version: 1.8.0 Maintainer: Michael Skinnider MaintainerEmail: michael.skinnider at msl.ubc.ca