Package: PoDCall Version: 1.0.0 Command: /Library/Frameworks/R.framework/Versions/Current/Resources/bin/R CMD build --keep-empty-dirs --no-resave-data PoDCall StartedAt: 2021-10-14 13:58:26 -0400 (Thu, 14 Oct 2021) EndedAt: 2021-10-14 13:58:59 -0400 (Thu, 14 Oct 2021) EllapsedTime: 32.9 seconds RetCode: 0 Status: OK PackageFile: PoDCall_1.0.0.tar.gz PackageFileSize: 2.968 MiB