git_url: https://git.bioconductor.org/packages/PloGO2 git_branch: RELEASE_3_13 git_last_commit: ca5de78 git_last_commit_date: 2021-05-19 12:51:35 -0400 (Wed, 19 May 2021) Package: PloGO2 Version: 1.4.0 Maintainer: Jemma Wu , Dana Pascovici MaintainerEmail: dana.pascovici at mq.edu.au