Package: Pigengene Version: 1.18.10 Command: /home/biocbuild/bbs-3.13-bioc/R/bin/R CMD check --install=check:Pigengene.install-out.txt --library=/home/biocbuild/bbs-3.13-bioc/R/library --no-vignettes --timings Pigengene_1.18.10.tar.gz StartedAt: 2021-10-14 11:02:12 -0400 (Thu, 14 Oct 2021) EndedAt: 2021-10-14 11:09:22 -0400 (Thu, 14 Oct 2021) EllapsedTime: 429.8 seconds RetCode: 0 Status: OK CheckDir: Pigengene.Rcheck Warnings: 0