Package: PhyloProfile Version: 1.6.6 Command: /home/biocbuild/bbs-3.13-bioc/R/bin/R CMD build --keep-empty-dirs --no-resave-data PhyloProfile StartedAt: 2021-10-14 08:00:07 -0400 (Thu, 14 Oct 2021) EndedAt: 2021-10-14 08:00:37 -0400 (Thu, 14 Oct 2021) EllapsedTime: 29.8 seconds RetCode: 0 Status: OK PackageFile: PhyloProfile_1.6.6.tar.gz PackageFileSize: 1.233 MiB