git_url: https://git.bioconductor.org/packages/PhosR git_branch: RELEASE_3_13 git_last_commit: cd5ab36 git_last_commit_date: 2021-05-19 12:55:51 -0400 (Wed, 19 May 2021) Package: PhosR Version: 1.2.0 Maintainer: Taiyun Kim MaintainerEmail: taiyun.kim91 at gmail.com