Package: PepsNMR Version: 1.10.1 Command: /Library/Frameworks/R.framework/Versions/Current/Resources/bin/R CMD build --keep-empty-dirs --no-resave-data PepsNMR StartedAt: 2021-10-14 13:51:12 -0400 (Thu, 14 Oct 2021) EndedAt: 2021-10-14 13:57:30 -0400 (Thu, 14 Oct 2021) EllapsedTime: 377.8 seconds RetCode: 0 Status: OK PackageFile: PepsNMR_1.10.1.tar.gz PackageFileSize: 1.115 MiB