Package: PathNet Version: 1.32.0 Command: /Library/Frameworks/R.framework/Versions/Current/Resources/bin/R CMD build --keep-empty-dirs --no-resave-data PathNet StartedAt: 2021-10-14 13:47:27 -0400 (Thu, 14 Oct 2021) EndedAt: 2021-10-14 13:48:14 -0400 (Thu, 14 Oct 2021) EllapsedTime: 47.2 seconds RetCode: 0 Status: OK PackageFile: PathNet_1.32.0.tar.gz PackageFileSize: 757.9 KiB