Package: Path2PPI Version: 1.22.0 Command: rm -rf Path2PPI.buildbin-libdir && mkdir Path2PPI.buildbin-libdir && /Users/biocbuild/BBS/utils/build-universal.sh Path2PPI_1.22.0.tar.gz /Library/Frameworks/R.framework/Versions/Current/Resources/bin/R Path2PPI.buildbin-libdir StartedAt: 2021-10-15 03:24:55 -0400 (Fri, 15 Oct 2021) EndedAt: 2021-10-15 03:25:59 -0400 (Fri, 15 Oct 2021) EllapsedTime: 63.8 seconds RetCode: 0 Status: OK PackageFile: Path2PPI_1.22.0.tgz PackageFileSize: 1.258 MiB