Package: PanVizGenerator Version: 1.20.0 Command: /home/biocbuild/bbs-3.13-bioc/R/bin/R CMD check --install=check:PanVizGenerator.install-out.txt --library=/home/biocbuild/bbs-3.13-bioc/R/library --no-vignettes --timings PanVizGenerator_1.20.0.tar.gz StartedAt: 2021-10-14 10:55:51 -0400 (Thu, 14 Oct 2021) EndedAt: 2021-10-14 11:01:27 -0400 (Thu, 14 Oct 2021) EllapsedTime: 336.4 seconds RetCode: 0 Status: OK CheckDir: PanVizGenerator.Rcheck Warnings: 0