Package: PSICQUIC Version: 1.30.0 Command: C:\cygwin\bin\curl.exe -O http://155.52.207.165/BBS/3.13/bioc/src/contrib/PSICQUIC_1.30.0.tar.gz && rm -rf PSICQUIC.buildbin-libdir && mkdir PSICQUIC.buildbin-libdir && C:\Users\biocbuild\bbs-3.13-bioc\R\bin\R.exe CMD INSTALL --merge-multiarch --build --library=PSICQUIC.buildbin-libdir PSICQUIC_1.30.0.tar.gz && C:\Users\biocbuild\bbs-3.13-bioc\R\bin\R.exe CMD INSTALL PSICQUIC_1.30.0.zip && rm PSICQUIC_1.30.0.tar.gz PSICQUIC_1.30.0.zip StartedAt: 2021-10-14 08:11:34 -0400 (Thu, 14 Oct 2021) EndedAt: 2021-10-14 08:15:13 -0400 (Thu, 14 Oct 2021) EllapsedTime: 218.8 seconds RetCode: 0 Status: OK