Package: PSICQUIC Version: 1.30.0 Command: /Library/Frameworks/R.framework/Versions/Current/Resources/bin/R CMD check --install=check:PSICQUIC.install-out.txt --library=/Library/Frameworks/R.framework/Versions/Current/Resources/library --no-vignettes --timings PSICQUIC_1.30.0.tar.gz StartedAt: 2021-10-14 22:38:28 -0400 (Thu, 14 Oct 2021) EndedAt: 2021-10-14 22:42:49 -0400 (Thu, 14 Oct 2021) EllapsedTime: 260.9 seconds RetCode: 0 Status: WARNINGS CheckDir: PSICQUIC.Rcheck Warnings: 1