Package: PSEA Version: 1.26.0 Command: /home/biocbuild/bbs-3.13-bioc/R/bin/R CMD INSTALL PSEA StartedAt: 2021-10-14 06:04:53 -0400 (Thu, 14 Oct 2021) EndedAt: 2021-10-14 06:04:57 -0400 (Thu, 14 Oct 2021) EllapsedTime: 3.5 seconds RetCode: 0 Status: OK