Package: PROPS Version: 1.14.0 Command: chmod a+r PROPS -R && C:\Users\biocbuild\bbs-3.13-bioc\R\bin\R.exe CMD build --keep-empty-dirs --no-resave-data PROPS StartedAt: 2021-10-14 17:13:25 -0400 (Thu, 14 Oct 2021) EndedAt: 2021-10-14 17:16:24 -0400 (Thu, 14 Oct 2021) EllapsedTime: 178.1 seconds RetCode: 0 Status: OK PackageFile: PROPS_1.14.0.tar.gz PackageFileSize: 3.585 MiB